BEGIN:VCALENDAR
VERSION:2.0
PRODID:-//jEvents 2.0 for Joomla//EN
CALSCALE:GREGORIAN
METHOD:PUBLISH
BEGIN:VTIMEZONE
TZID:Europe/Berlin
BEGIN:STANDARD
DTSTART:20251026T020000
RDATE:20260329T030000
TZOFFSETFROM:+0200
TZOFFSETTO:+0100
TZNAME:Europe/Berlin CET
END:STANDARD
BEGIN:STANDARD
DTSTART:20261025T020000
RDATE:20270328T030000
TZOFFSETFROM:+0200
TZOFFSETTO:+0100
TZNAME:Europe/Berlin CET
END:STANDARD
BEGIN:STANDARD
DTSTART:20271031T020000
RDATE:20280326T030000
TZOFFSETFROM:+0200
TZOFFSETTO:+0100
TZNAME:Europe/Berlin CET
END:STANDARD
BEGIN:STANDARD
DTSTART:20281029T020000
RDATE:20290325T030000
TZOFFSETFROM:+0200
TZOFFSETTO:+0100
TZNAME:Europe/Berlin CET
END:STANDARD
BEGIN:STANDARD
DTSTART:20291028T020000
RDATE:20300331T030000
TZOFFSETFROM:+0200
TZOFFSETTO:+0100
TZNAME:Europe/Berlin CET
END:STANDARD
BEGIN:DAYLIGHT
DTSTART:20250424T093000
RDATE:20251026T020000
TZOFFSETFROM:+0100
TZOFFSETTO:+0200
TZNAME:Europe/Berlin CEST
END:DAYLIGHT
BEGIN:DAYLIGHT
DTSTART:20260329T030000
RDATE:20261025T020000
TZOFFSETFROM:+0100
TZOFFSETTO:+0200
TZNAME:Europe/Berlin CEST
END:DAYLIGHT
BEGIN:DAYLIGHT
DTSTART:20270328T030000
RDATE:20271031T020000
TZOFFSETFROM:+0100
TZOFFSETTO:+0200
TZNAME:Europe/Berlin CEST
END:DAYLIGHT
BEGIN:DAYLIGHT
DTSTART:20280326T030000
RDATE:20281029T020000
TZOFFSETFROM:+0100
TZOFFSETTO:+0200
TZNAME:Europe/Berlin CEST
END:DAYLIGHT
BEGIN:DAYLIGHT
DTSTART:20290325T030000
RDATE:20291028T020000
TZOFFSETFROM:+0100
TZOFFSETTO:+0200
TZNAME:Europe/Berlin CEST
END:DAYLIGHT
END:VTIMEZONE
BEGIN:VEVENT
UID:ced93674b6ec0b50cf48ee0740fa27ef
CATEGORIES:MSC Schmallenberg e.V. im ADAC, Motorradgruppe
CREATED:20260423T110702
SUMMARY:Frühjahrsputz
LOCATION:Vereinsheim; Hühnegräben 30; 57392 Schmallenberg
URL;VALUE=URI:https://msc-schmallenberg.de/msc-schmallenberg/termine/export/eventdetail/6
 27/-/frühjahrsputz.html?tmpl=component
DESCRIPTION:<p>Hallo Clubmitglieder&nbsp;</p><p>Wir machen spontan am 25. April 2026 ei
 nen Frühjahrsputz im und um das Vereinsheim des MSC.</p><p>Vielleicht hat j
 a jemand Zeit kurz anzupacken.</p><p>Start ist ab 9 Uhr 30.</p><p>Sportlich
 e Grüße&nbsp;</p><p>Christoph Frentrop&nbsp;</p> <a href="https://msc-schma
 llenberg.de/msc-schmallenberg/termine/export/eventdetail/627/-/frühjahrsput
 z.html?tmpl=component">Dieser Event wurde importiert von: https://msc-schma
 llenberg.de/msc-schmallenberg/termine/export/eventdetail/627/-/frühjahrsput
 z.html?tmpl=component</a>DTSTAMP:20260423T145748
DTSTART;TZID=Europe/Berlin:20260425T093000
DTEND;TZID=Europe/Berlin:20260425T120000
SEQUENCE:0
TRANSP:OPAQUE
END:VEVENT
END:VCALENDAR